BEGIN:VCALENDAR
VERSION:2.0
PRODID:-//Foxrock Garden Club - ECPv6.15.20//NONSGML v1.0//EN
CALSCALE:GREGORIAN
METHOD:PUBLISH
X-WR-CALNAME:Foxrock Garden Club
X-ORIGINAL-URL:https://foxrockgardenclub.com
X-WR-CALDESC:Events for Foxrock Garden Club
REFRESH-INTERVAL;VALUE=DURATION:PT1H
X-Robots-Tag:noindex
X-PUBLISHED-TTL:PT1H
BEGIN:VTIMEZONE
TZID:Europe/Dublin
BEGIN:DAYLIGHT
TZOFFSETFROM:+0000
TZOFFSETTO:+0100
TZNAME:IST
DTSTART:20210328T010000
END:DAYLIGHT
BEGIN:STANDARD
TZOFFSETFROM:+0100
TZOFFSETTO:+0000
TZNAME:GMT
DTSTART:20211031T010000
END:STANDARD
BEGIN:DAYLIGHT
TZOFFSETFROM:+0000
TZOFFSETTO:+0100
TZNAME:IST
DTSTART:20220327T010000
END:DAYLIGHT
BEGIN:STANDARD
TZOFFSETFROM:+0100
TZOFFSETTO:+0000
TZNAME:GMT
DTSTART:20221030T010000
END:STANDARD
BEGIN:DAYLIGHT
TZOFFSETFROM:+0000
TZOFFSETTO:+0100
TZNAME:IST
DTSTART:20230326T010000
END:DAYLIGHT
BEGIN:STANDARD
TZOFFSETFROM:+0100
TZOFFSETTO:+0000
TZNAME:GMT
DTSTART:20231029T010000
END:STANDARD
END:VTIMEZONE
BEGIN:VEVENT
DTSTART;TZID=Europe/Dublin:20221025T200000
DTEND;TZID=Europe/Dublin:20221025T213000
DTSTAMP:20260422T070830
CREATED:20220920T023419Z
LAST-MODIFIED:20220920T025940Z
UID:6193-1666728000-1666733400@foxrockgardenclub.com
SUMMARY:Benjamin Pope\, Horticulturalist and Lecturer at London Physic Garden - ‘For the love of plants’
DESCRIPTION:Benjamin has been working in horticulture for over two decades\, studying and training at the Merrist Wood and RHS Wisley\, where he was awarded Best Practical and Best Overall Student.  His work experience ranges from nursery practices and propagation in Australia through to design and horticultural research in London for the practice of Arabella Lennox-Boyd.  He is currently the head gardener of a private estate in West Sussex where he tends to a walled kitchen garden\, herbaceous borders\, floral meadows\, woodland\, water features and more.  He writes about his progress on The Working Garden. \nAlongside this role\, Benjamin also lectures at the Chelsea Physic Garden for the English Gardening School\, and at West Dean College of Art and Conservation.  He holds a RHS Master of Horticulture\, is a member of the RHS Herbaceous Committee and writes for various publications including Gardens Illustrated.  Ben is currently developing a market garden with ecology and sustainability at its heart.  When out and about\, he is often accompanied by his beloved dogs\, Geoff and Mavis. \n         
URL:https://foxrockgardenclub.com/event/benjamin-pope-horticulturalist-and-lecturer-at-london-physic-garden-for-the-love-of-plants/
LOCATION:Foxrock Church Pastoral Centre\, Foxrock Church Pastoral Centre\, Dublin\, Co Dublin\, 18\, Ireland
CATEGORIES:Club Events,Lectures
ATTACH;FMTTYPE=image/png:https://foxrockgardenclub.com/cms/wp-content/uploads/Benjamin-Pope.png
END:VEVENT
END:VCALENDAR