BEGIN:VCALENDAR
VERSION:2.0
PRODID:-//Foxrock Garden Club - ECPv6.15.20//NONSGML v1.0//EN
CALSCALE:GREGORIAN
METHOD:PUBLISH
X-WR-CALNAME:Foxrock Garden Club
X-ORIGINAL-URL:https://foxrockgardenclub.com
X-WR-CALDESC:Events for Foxrock Garden Club
REFRESH-INTERVAL;VALUE=DURATION:PT1H
X-Robots-Tag:noindex
X-PUBLISHED-TTL:PT1H
BEGIN:VTIMEZONE
TZID:Europe/Dublin
BEGIN:DAYLIGHT
TZOFFSETFROM:+0000
TZOFFSETTO:+0100
TZNAME:IST
DTSTART:20220327T010000
END:DAYLIGHT
BEGIN:STANDARD
TZOFFSETFROM:+0100
TZOFFSETTO:+0000
TZNAME:GMT
DTSTART:20221030T010000
END:STANDARD
BEGIN:DAYLIGHT
TZOFFSETFROM:+0000
TZOFFSETTO:+0100
TZNAME:IST
DTSTART:20230326T010000
END:DAYLIGHT
BEGIN:STANDARD
TZOFFSETFROM:+0100
TZOFFSETTO:+0000
TZNAME:GMT
DTSTART:20231029T010000
END:STANDARD
BEGIN:DAYLIGHT
TZOFFSETFROM:+0000
TZOFFSETTO:+0100
TZNAME:IST
DTSTART:20240331T010000
END:DAYLIGHT
BEGIN:STANDARD
TZOFFSETFROM:+0100
TZOFFSETTO:+0000
TZNAME:GMT
DTSTART:20241027T010000
END:STANDARD
END:VTIMEZONE
BEGIN:VEVENT
DTSTART;TZID=Europe/Dublin:20230328T200000
DTEND;TZID=Europe/Dublin:20230328T213000
DTSTAMP:20260421T224507
CREATED:20220920T025106Z
LAST-MODIFIED:20230110T171402Z
UID:6222-1680033600-1680039000@foxrockgardenclub.com
SUMMARY:Conall O'Caoimh of Ardán Garden
DESCRIPTION:Ardán garden is situated on half an acre and the planting and design are a direct response to its coastal hillside location close to the summit of Howth in north Dublin. In 2003\, this garden was a rugged mountainside garden and today\, it has been transformed into a dynamic contemporary and ever-evolving garden which includes an eclectic botanical collection\, artistically arranged. The passion and skill of Nuala and Conall are evident in the variety of planting areas including large densely planted herbaceous areas\, a white garden\, an exotic garden with a pond and bog garden\, a vegetable garden\, a small woodland where one can sit quietly out of the heat of the sun and a natural rocky outcrop. Conall’s garden sculptures enhance the vibrancy and contemporary feel of the garden. Of significant importance\, Ardán is gardened organically and is a garden of the UNESCO Dublin Bay Biosphere.
URL:https://foxrockgardenclub.com/event/club-meeting-details-to-follow-2/
LOCATION:Foxrock Church Pastoral Centre\, Foxrock Church Pastoral Centre\, Dublin\, Co Dublin\, 18\, Ireland
CATEGORIES:Club Events,Lectures
ATTACH;FMTTYPE=image/jpeg:https://foxrockgardenclub.com/cms/wp-content/uploads/Connal-OGorman.jpg
END:VEVENT
END:VCALENDAR