BEGIN:VCALENDAR
VERSION:2.0
PRODID:-//Foxrock Garden Club - ECPv6.15.20//NONSGML v1.0//EN
CALSCALE:GREGORIAN
METHOD:PUBLISH
X-WR-CALNAME:Foxrock Garden Club
X-ORIGINAL-URL:https://foxrockgardenclub.com
X-WR-CALDESC:Events for Foxrock Garden Club
REFRESH-INTERVAL;VALUE=DURATION:PT1H
X-Robots-Tag:noindex
X-PUBLISHED-TTL:PT1H
BEGIN:VTIMEZONE
TZID:Europe/Dublin
BEGIN:DAYLIGHT
TZOFFSETFROM:+0000
TZOFFSETTO:+0100
TZNAME:IST
DTSTART:20220327T010000
END:DAYLIGHT
BEGIN:STANDARD
TZOFFSETFROM:+0100
TZOFFSETTO:+0000
TZNAME:GMT
DTSTART:20221030T010000
END:STANDARD
BEGIN:DAYLIGHT
TZOFFSETFROM:+0000
TZOFFSETTO:+0100
TZNAME:IST
DTSTART:20230326T010000
END:DAYLIGHT
BEGIN:STANDARD
TZOFFSETFROM:+0100
TZOFFSETTO:+0000
TZNAME:GMT
DTSTART:20231029T010000
END:STANDARD
BEGIN:DAYLIGHT
TZOFFSETFROM:+0000
TZOFFSETTO:+0100
TZNAME:IST
DTSTART:20240331T010000
END:DAYLIGHT
BEGIN:STANDARD
TZOFFSETFROM:+0100
TZOFFSETTO:+0000
TZNAME:GMT
DTSTART:20241027T010000
END:STANDARD
END:VTIMEZONE
BEGIN:VEVENT
DTSTART;TZID=Europe/Dublin:20230606T193000
DTEND;TZID=Europe/Dublin:20230606T203000
DTSTAMP:20260421T175711
CREATED:20230502T100217Z
LAST-MODIFIED:20230503T143201Z
UID:6567-1686079800-1686083400@foxrockgardenclub.com
SUMMARY:2023 Annual General Meeting
DESCRIPTION:Our AGM is being held virtually on Tuesday\, 6th June 2023. \nFull details and an agenda have been sent by email to all members. \n 
URL:https://foxrockgardenclub.com/event/2023-annual-general-meeting/
LOCATION:Zoom\, Dial-in details have been sent to members by email
CATEGORIES:Club Events
ATTACH;FMTTYPE=image/gif:https://foxrockgardenclub.com/cms/wp-content/uploads/AGM.gif
END:VEVENT
END:VCALENDAR