BEGIN:VCALENDAR
VERSION:2.0
PRODID:-//Foxrock Garden Club - ECPv6.15.20//NONSGML v1.0//EN
CALSCALE:GREGORIAN
METHOD:PUBLISH
X-WR-CALNAME:Foxrock Garden Club
X-ORIGINAL-URL:https://foxrockgardenclub.com
X-WR-CALDESC:Events for Foxrock Garden Club
REFRESH-INTERVAL;VALUE=DURATION:PT1H
X-Robots-Tag:noindex
X-PUBLISHED-TTL:PT1H
BEGIN:VTIMEZONE
TZID:Europe/Dublin
BEGIN:DAYLIGHT
TZOFFSETFROM:+0000
TZOFFSETTO:+0100
TZNAME:IST
DTSTART:20220327T010000
END:DAYLIGHT
BEGIN:STANDARD
TZOFFSETFROM:+0100
TZOFFSETTO:+0000
TZNAME:GMT
DTSTART:20221030T010000
END:STANDARD
BEGIN:DAYLIGHT
TZOFFSETFROM:+0000
TZOFFSETTO:+0100
TZNAME:IST
DTSTART:20230326T010000
END:DAYLIGHT
BEGIN:STANDARD
TZOFFSETFROM:+0100
TZOFFSETTO:+0000
TZNAME:GMT
DTSTART:20231029T010000
END:STANDARD
BEGIN:DAYLIGHT
TZOFFSETFROM:+0000
TZOFFSETTO:+0100
TZNAME:IST
DTSTART:20240331T010000
END:DAYLIGHT
BEGIN:STANDARD
TZOFFSETFROM:+0100
TZOFFSETTO:+0000
TZNAME:GMT
DTSTART:20241027T010000
END:STANDARD
END:VTIMEZONE
BEGIN:VEVENT
DTSTART;TZID=Europe/Dublin:20230728T110000
DTEND;TZID=Europe/Dublin:20230728T123000
DTSTAMP:20260422T233324
CREATED:20230503T134946Z
LAST-MODIFIED:20230503T150642Z
UID:6573-1690542000-1690547400@foxrockgardenclub.com
SUMMARY:A Secret Garden Visit
DESCRIPTION:You won’t want to miss this visit which will bring you to a large and exciting private garden in South County Dublin. \nA €10 charge applies; places are limited and strictly for members only. \nMembers will receive details by email – and bookings will be taken on the basis outlined there.
URL:https://foxrockgardenclub.com/event/a-secret-garden-visit/
LOCATION:Co Dublin
CATEGORIES:Club Events
ATTACH;FMTTYPE=image/jpeg:https://foxrockgardenclub.com/cms/wp-content/uploads/Mess-e1683124604276.jpg
END:VEVENT
END:VCALENDAR