BEGIN:VCALENDAR
VERSION:2.0
PRODID:-//Foxrock Garden Club - ECPv6.15.20//NONSGML v1.0//EN
CALSCALE:GREGORIAN
METHOD:PUBLISH
X-ORIGINAL-URL:https://foxrockgardenclub.com
X-WR-CALDESC:Events for Foxrock Garden Club
REFRESH-INTERVAL;VALUE=DURATION:PT1H
X-Robots-Tag:noindex
X-PUBLISHED-TTL:PT1H
BEGIN:VTIMEZONE
TZID:Europe/Dublin
BEGIN:DAYLIGHT
TZOFFSETFROM:+0000
TZOFFSETTO:+0100
TZNAME:IST
DTSTART:20210328T010000
END:DAYLIGHT
BEGIN:STANDARD
TZOFFSETFROM:+0100
TZOFFSETTO:+0000
TZNAME:GMT
DTSTART:20211031T010000
END:STANDARD
BEGIN:DAYLIGHT
TZOFFSETFROM:+0000
TZOFFSETTO:+0100
TZNAME:IST
DTSTART:20220327T010000
END:DAYLIGHT
BEGIN:STANDARD
TZOFFSETFROM:+0100
TZOFFSETTO:+0000
TZNAME:GMT
DTSTART:20221030T010000
END:STANDARD
BEGIN:DAYLIGHT
TZOFFSETFROM:+0000
TZOFFSETTO:+0100
TZNAME:IST
DTSTART:20230326T010000
END:DAYLIGHT
BEGIN:STANDARD
TZOFFSETFROM:+0100
TZOFFSETTO:+0000
TZNAME:GMT
DTSTART:20231029T010000
END:STANDARD
END:VTIMEZONE
BEGIN:VEVENT
DTSTART;TZID=Europe/Dublin:20220524T200000
DTEND;TZID=Europe/Dublin:20220524T213000
DTSTAMP:20260424T122101
CREATED:20211208T195951Z
LAST-MODIFIED:20220419T170051Z
UID:5492-1653422400-1653427800@foxrockgardenclub.com
SUMMARY:Sir Bob Salisbury   'Field of Dreams'
DESCRIPTION:Sir Robert (Bob) Salisbury is a leading educationalist\, who recently chaired the literacy and numeracy task force in Northern Ireland. Previously he was a professor in the School of Education at the University of Nottingham. He is a keen angler\, photographer and gardener. Bob and his wife Rosemary have spent the last sixteen years developing one of the most significant wildlife gardens in Northern Ireland and his book ‘Field of Dreams’ is an inspiring story of the trials and tribulations of developing a wildlife haven.
URL:https://foxrockgardenclub.com/event/sir-bob-salisbury-field-of-dreams/
LOCATION:Co Dublin
CATEGORIES:Lectures
ATTACH;FMTTYPE=image/jpeg:https://foxrockgardenclub.com/cms/wp-content/uploads/bob-salisbury-and-his-wife-rosemary.jpeg
END:VEVENT
END:VCALENDAR