BEGIN:VCALENDAR
VERSION:2.0
PRODID:-//Foxrock Garden Club - ECPv6.15.20//NONSGML v1.0//EN
CALSCALE:GREGORIAN
METHOD:PUBLISH
X-ORIGINAL-URL:https://foxrockgardenclub.com
X-WR-CALDESC:Events for Foxrock Garden Club
REFRESH-INTERVAL;VALUE=DURATION:PT1H
X-Robots-Tag:noindex
X-PUBLISHED-TTL:PT1H
BEGIN:VTIMEZONE
TZID:Europe/Dublin
BEGIN:DAYLIGHT
TZOFFSETFROM:+0000
TZOFFSETTO:+0100
TZNAME:IST
DTSTART:20200329T010000
END:DAYLIGHT
BEGIN:STANDARD
TZOFFSETFROM:+0100
TZOFFSETTO:+0000
TZNAME:GMT
DTSTART:20201025T010000
END:STANDARD
BEGIN:DAYLIGHT
TZOFFSETFROM:+0000
TZOFFSETTO:+0100
TZNAME:IST
DTSTART:20210328T010000
END:DAYLIGHT
BEGIN:STANDARD
TZOFFSETFROM:+0100
TZOFFSETTO:+0000
TZNAME:GMT
DTSTART:20211031T010000
END:STANDARD
BEGIN:DAYLIGHT
TZOFFSETFROM:+0000
TZOFFSETTO:+0100
TZNAME:IST
DTSTART:20220327T010000
END:DAYLIGHT
BEGIN:STANDARD
TZOFFSETFROM:+0100
TZOFFSETTO:+0000
TZNAME:GMT
DTSTART:20221030T010000
END:STANDARD
END:VTIMEZONE
BEGIN:VEVENT
DTSTART;TZID=Europe/Dublin:20210422T200000
DTEND;TZID=Europe/Dublin:20210422T200000
DTSTAMP:20260423T111040
CREATED:20210412T134009Z
LAST-MODIFIED:20210412T161140Z
UID:5012-1619121600-1619121600@foxrockgardenclub.com
SUMMARY:Timothy Walker\, Botanist - "On Top but Never in Control"
DESCRIPTION:“On Top but Never in Control” \nTimothy Walker was previously Director of Oxford Botanic Gardens. This is the story of making his wife’s small town garden. \nZoom Talk\, hosted by Wexford Garden & Flower Club
URL:https://foxrockgardenclub.com/event/timothy-walker-botanist-on-top-but-never-in-control/
CATEGORIES:Zoom Talks
ATTACH;FMTTYPE=image/jpeg:https://foxrockgardenclub.com/cms/wp-content/uploads/TimothyWalker.jpg
END:VEVENT
BEGIN:VEVENT
DTSTART;TZID=Europe/Dublin:20210427T193000
DTEND;TZID=Europe/Dublin:20210427T210000
DTSTAMP:20260423T111040
CREATED:20200924T112637Z
LAST-MODIFIED:20210303T180649Z
UID:4725-1619551800-1619557200@foxrockgardenclub.com
SUMMARY:Conrad McCormick\, garden designer\, freelance garden journalist and environmentalist - 'Fantastic foliage and phenomenal flowers.'
DESCRIPTION:Conrad is a garden designer\, freelance garden journalist and environmentalist. He has appeared on the RTE/BBC NI Gardening Together TV show and regularly contributes to BBC Radio Ulster’s Gardeners Corner programme. He has a passion for unusual and exotic plants which he grows in his suburban North Antrim garden.
URL:https://foxrockgardenclub.com/event/conrad-mccormick-garden-designer-freelance-journalist-and-environmentalist-fantastic-foliage-and-phenomenal-flowers/
CATEGORIES:Zoom Talks
ATTACH;FMTTYPE=image/jpeg:https://foxrockgardenclub.com/cms/wp-content/uploads/conrad-maccormick-may19.jpg
END:VEVENT
END:VCALENDAR