BEGIN:VCALENDAR
VERSION:2.0
PRODID:-//Foxrock Garden Club - ECPv6.15.20//NONSGML v1.0//EN
CALSCALE:GREGORIAN
METHOD:PUBLISH
X-ORIGINAL-URL:https://foxrockgardenclub.com
X-WR-CALDESC:Events for Foxrock Garden Club
REFRESH-INTERVAL;VALUE=DURATION:PT1H
X-Robots-Tag:noindex
X-PUBLISHED-TTL:PT1H
BEGIN:VTIMEZONE
TZID:Europe/Dublin
BEGIN:DAYLIGHT
TZOFFSETFROM:+0000
TZOFFSETTO:+0100
TZNAME:IST
DTSTART:20200329T010000
END:DAYLIGHT
BEGIN:STANDARD
TZOFFSETFROM:+0100
TZOFFSETTO:+0000
TZNAME:GMT
DTSTART:20201025T010000
END:STANDARD
BEGIN:DAYLIGHT
TZOFFSETFROM:+0000
TZOFFSETTO:+0100
TZNAME:IST
DTSTART:20210328T010000
END:DAYLIGHT
BEGIN:STANDARD
TZOFFSETFROM:+0100
TZOFFSETTO:+0000
TZNAME:GMT
DTSTART:20211031T010000
END:STANDARD
BEGIN:DAYLIGHT
TZOFFSETFROM:+0000
TZOFFSETTO:+0100
TZNAME:IST
DTSTART:20220327T010000
END:DAYLIGHT
BEGIN:STANDARD
TZOFFSETFROM:+0100
TZOFFSETTO:+0000
TZNAME:GMT
DTSTART:20221030T010000
END:STANDARD
END:VTIMEZONE
BEGIN:VEVENT
DTSTART;TZID=Europe/Dublin:20210506T200000
DTEND;TZID=Europe/Dublin:20210506T213000
DTSTAMP:20260423T092831
CREATED:20210412T134317Z
LAST-MODIFIED:20210412T161225Z
UID:5014-1620331200-1620336600@foxrockgardenclub.com
SUMMARY:Rosie Hardy of Hardy’s Cottage Garden Plants - "From Back Garden to Chelsea Gold"
DESCRIPTION:“From Back Garden to Chelsea Gold” \nHardy’s Cottage Garden Plants was founded in 1988 by Rosy Hardy. Anyone who has visited Chelsea Flower Show will surely have spent time looking with envy at their stand. Herbaceous plants in garden settings – they have won 24 Gold medals so far \nZoom Talk\, hosted by Wexford Garden & Flower Club
URL:https://foxrockgardenclub.com/event/rosie-hardy-of-hardys-cottage-garden-plants-from-back-garden-to-chelsea-gold/
CATEGORIES:Zoom Talks
ATTACH;FMTTYPE=image/jpeg:https://foxrockgardenclub.com/cms/wp-content/uploads/rosie-hardy.jpeg
END:VEVENT
BEGIN:VEVENT
DTSTART;TZID=Europe/Dublin:20210525T193000
DTEND;TZID=Europe/Dublin:20210525T210000
DTSTAMP:20260423T092831
CREATED:20210303T112847Z
LAST-MODIFIED:20210303T183002Z
UID:4957-1621971000-1621976400@foxrockgardenclub.com
SUMMARY:Mary Keenan\, owner of Gash Gardens & Nursery\, horticultural consultant\, garden writer and lecturer - 'What I have learned from Gardening'
DESCRIPTION:Mary Keenan B.Agr.Sc (Landscape Horticulture)\nGash Gardens & Nursery\, Castletown\, Portlaoise. Co. Laois R32K068 \nEmail: gashgardens@gmail.com \nTelephone: 087-2737883 \nhttps://gashgardens.ie/ \nMary Keenan\, together with her husband Ross Doyle\, is the owner of Gash Gardens & Nursery in County Laois. She has been gardening and growing plants for over 40 years. After qualifying with a degree in landscape horticulture from University College Dublin\, she worked as a college lecturer at the National Botanic Gardens in Glasnevin\, Dublin for several years before joining South Dublin County Council as a Parks Superintendent. Over a period of almost 20 years in local authority\, she held varying responsibilities in management and development of public parks and street tree management. She is a Past President and former Executive Director of the Tree Council of Ireland. Mary is now self-employed in the running of Gash Gardens & Nursery\, where she enjoys sharing her enthusiasm for plants with visitors and specialises in growing interesting and unusual plants. She also works as a garden writer\, lecturer\, Tidy Towns adjudicator and horticultural consultant. As a long-time\, regular columnist\, and more recently as editor\, with the Irish Garden magazine\, Mary writes and lectures on a wide range of garden topics conveying her very practical\, hands-on and down to earth approach to plants and gardening.
URL:https://foxrockgardenclub.com/event/mary-keenan-may-2021/
CATEGORIES:Zoom Talks
ATTACH;FMTTYPE=image/jpeg:https://foxrockgardenclub.com/cms/wp-content/uploads/Mary-Keenan-Photo.jpg
END:VEVENT
END:VCALENDAR