BEGIN:VCALENDAR
VERSION:2.0
PRODID:-//Foxrock Garden Club - ECPv6.15.20//NONSGML v1.0//EN
CALSCALE:GREGORIAN
METHOD:PUBLISH
X-ORIGINAL-URL:https://foxrockgardenclub.com
X-WR-CALDESC:Events for Foxrock Garden Club
REFRESH-INTERVAL;VALUE=DURATION:PT1H
X-Robots-Tag:noindex
X-PUBLISHED-TTL:PT1H
BEGIN:VTIMEZONE
TZID:Europe/Dublin
BEGIN:DAYLIGHT
TZOFFSETFROM:+0000
TZOFFSETTO:+0100
TZNAME:IST
DTSTART:20200329T010000
END:DAYLIGHT
BEGIN:STANDARD
TZOFFSETFROM:+0100
TZOFFSETTO:+0000
TZNAME:GMT
DTSTART:20201025T010000
END:STANDARD
BEGIN:DAYLIGHT
TZOFFSETFROM:+0000
TZOFFSETTO:+0100
TZNAME:IST
DTSTART:20210328T010000
END:DAYLIGHT
BEGIN:STANDARD
TZOFFSETFROM:+0100
TZOFFSETTO:+0000
TZNAME:GMT
DTSTART:20211031T010000
END:STANDARD
BEGIN:DAYLIGHT
TZOFFSETFROM:+0000
TZOFFSETTO:+0100
TZNAME:IST
DTSTART:20220327T010000
END:DAYLIGHT
BEGIN:STANDARD
TZOFFSETFROM:+0100
TZOFFSETTO:+0000
TZNAME:GMT
DTSTART:20221030T010000
END:STANDARD
END:VTIMEZONE
BEGIN:VEVENT
DTSTART;TZID=Europe/Dublin:20211026T193000
DTEND;TZID=Europe/Dublin:20211026T210000
DTSTAMP:20260423T014911
CREATED:20210819T143204Z
LAST-MODIFIED:20210819T145409Z
UID:5166-1635276600-1635282000@foxrockgardenclub.com
SUMMARY:Helen Picton\, The Picton Garden & Old Court Nurseries - 'It is NOT time for bed yet'
DESCRIPTION:Helen Picton is a specialist grower of autumn flowering asters.   The Picton family operates Old Court Nurseries and The Picton Garden in Herefordshire\, England.   The nursery was established by Ernest Ballard\, the first nurseryman to popularise autumn-flowering asters.   The Pictons hold the Plant Heritage National Plant Collection of autumn-flowering asters\, with more than four hundred forms present in the collection.  Helen joined the business after completing a botany degree at the University of Reading and has since then been working full time with asters.   She also lectures and gives talks throughout the U.K.
URL:https://foxrockgardenclub.com/event/helen-picton-the-picton-garden-old-court-nurseries-it-is-not-time-for-bed-yet/
CATEGORIES:Zoom Talks
ATTACH;FMTTYPE=image/png:https://foxrockgardenclub.com/cms/wp-content/uploads/Helen-Picton-photo.png
END:VEVENT
END:VCALENDAR