BEGIN:VCALENDAR
VERSION:2.0
PRODID:-//Foxrock Garden Club - ECPv6.15.20//NONSGML v1.0//EN
CALSCALE:GREGORIAN
METHOD:PUBLISH
X-WR-CALNAME:Foxrock Garden Club
X-ORIGINAL-URL:https://foxrockgardenclub.com
X-WR-CALDESC:Events for Foxrock Garden Club
REFRESH-INTERVAL;VALUE=DURATION:PT1H
X-Robots-Tag:noindex
X-PUBLISHED-TTL:PT1H
BEGIN:VTIMEZONE
TZID:Europe/Dublin
BEGIN:DAYLIGHT
TZOFFSETFROM:+0000
TZOFFSETTO:+0100
TZNAME:IST
DTSTART:20200329T010000
END:DAYLIGHT
BEGIN:STANDARD
TZOFFSETFROM:+0100
TZOFFSETTO:+0000
TZNAME:GMT
DTSTART:20201025T010000
END:STANDARD
BEGIN:DAYLIGHT
TZOFFSETFROM:+0000
TZOFFSETTO:+0100
TZNAME:IST
DTSTART:20210328T010000
END:DAYLIGHT
BEGIN:STANDARD
TZOFFSETFROM:+0100
TZOFFSETTO:+0000
TZNAME:GMT
DTSTART:20211031T010000
END:STANDARD
BEGIN:DAYLIGHT
TZOFFSETFROM:+0000
TZOFFSETTO:+0100
TZNAME:IST
DTSTART:20220327T010000
END:DAYLIGHT
BEGIN:STANDARD
TZOFFSETFROM:+0100
TZOFFSETTO:+0000
TZNAME:GMT
DTSTART:20221030T010000
END:STANDARD
END:VTIMEZONE
BEGIN:VEVENT
DTSTART;TZID=Europe/Dublin:20211123T193000
DTEND;TZID=Europe/Dublin:20211123T210000
DTSTAMP:20260423T002618
CREATED:20210819T145819Z
LAST-MODIFIED:20210819T152250Z
UID:5174-1637695800-1637701200@foxrockgardenclub.com
SUMMARY:Sara Whelan\, Gardener - 'The Winter Garden'
DESCRIPTION:Sara Whelan is a garden designer living in Dunmain\, New Ross\, Co. Wexford. She first learnt about plants from her grandmother who lived near the National Botanic Gardens in Glasnevin\, Dublin. She studied science at UCD and worked in education for almost 40 years. After taking early retirement\, she studied for a Diploma in Garden Design and was a finalist in the national student design competition run by the Garden and Landscape Design Association (GLDA). Sara has designed and made many gardens\, from tiny city gardens to coastal gardens\, a school garden\, community gardens\, and her own country garden in Dunmain. She coordinated the New Ross GIY group for 10 years and currently helps to maintain three public display beds in the town\, which promote biodiversity\, herbs\, edible flowers and vegetables. Sara offers an informal garden design advice and planning service\, through her website: gardenplans.info.
URL:https://foxrockgardenclub.com/event/sara-whelan-gardener-the-winter-garden/
CATEGORIES:Zoom Talks
ATTACH;FMTTYPE=image/jpeg:https://foxrockgardenclub.com/cms/wp-content/uploads/Sara-Whelan-photo.jpg
END:VEVENT
END:VCALENDAR