BEGIN:VCALENDAR
VERSION:2.0
PRODID:-//Foxrock Garden Club - ECPv6.15.20//NONSGML v1.0//EN
CALSCALE:GREGORIAN
METHOD:PUBLISH
X-WR-CALNAME:Foxrock Garden Club
X-ORIGINAL-URL:https://foxrockgardenclub.com
X-WR-CALDESC:Events for Foxrock Garden Club
REFRESH-INTERVAL;VALUE=DURATION:PT1H
X-Robots-Tag:noindex
X-PUBLISHED-TTL:PT1H
BEGIN:VTIMEZONE
TZID:Europe/Dublin
BEGIN:DAYLIGHT
TZOFFSETFROM:+0000
TZOFFSETTO:+0100
TZNAME:IST
DTSTART:20200329T010000
END:DAYLIGHT
BEGIN:STANDARD
TZOFFSETFROM:+0100
TZOFFSETTO:+0000
TZNAME:GMT
DTSTART:20201025T010000
END:STANDARD
BEGIN:DAYLIGHT
TZOFFSETFROM:+0000
TZOFFSETTO:+0100
TZNAME:IST
DTSTART:20210328T010000
END:DAYLIGHT
BEGIN:STANDARD
TZOFFSETFROM:+0100
TZOFFSETTO:+0000
TZNAME:GMT
DTSTART:20211031T010000
END:STANDARD
BEGIN:DAYLIGHT
TZOFFSETFROM:+0000
TZOFFSETTO:+0100
TZNAME:IST
DTSTART:20220327T010000
END:DAYLIGHT
BEGIN:STANDARD
TZOFFSETFROM:+0100
TZOFFSETTO:+0000
TZNAME:GMT
DTSTART:20221030T010000
END:STANDARD
END:VTIMEZONE
BEGIN:VEVENT
DTSTART;TZID=Europe/Dublin:20211207T193000
DTEND;TZID=Europe/Dublin:20211207T210000
DTSTAMP:20260422T230502
CREATED:20210819T150331Z
LAST-MODIFIED:20210819T150331Z
UID:5177-1638905400-1638910800@foxrockgardenclub.com
SUMMARY:Gary Carroll\, Cranesbill Nursery - 'Discover the diversity of hardy Geraniums'
DESCRIPTION:Gary Carroll has gardened for over 15 years. Studied at Rodbasson Horticultural College during which time he created his own garden. He then progressed to a local arboretum\, a very large and busy garden centre\, as well as having his own garden renovation business. Subsequent to that he worked as a gardener for a Five Star Hotel in Australia\, after which he moved on to be a Garden Manager at a historic National Trust property. He now aims to provide the best range of Hardy Geraniums in the U.K. and beyond. All his plants are robust sizes and aside from his Bare-Roots supplied in Spring-ready to be planted straight out into the garden
URL:https://foxrockgardenclub.com/event/gary-carroll-cranesbill-nursery-discover-the-diversity-of-hardy-geraniums/
CATEGORIES:Zoom Talks
ATTACH;FMTTYPE=image/jpeg:https://foxrockgardenclub.com/cms/wp-content/uploads/Gary-Carroll-photo-scaled.jpeg
END:VEVENT
END:VCALENDAR