BEGIN:VCALENDAR
VERSION:2.0
PRODID:-//Foxrock Garden Club - ECPv6.15.20//NONSGML v1.0//EN
CALSCALE:GREGORIAN
METHOD:PUBLISH
X-WR-CALNAME:Foxrock Garden Club
X-ORIGINAL-URL:https://foxrockgardenclub.com
X-WR-CALDESC:Events for Foxrock Garden Club
REFRESH-INTERVAL;VALUE=DURATION:PT1H
X-Robots-Tag:noindex
X-PUBLISHED-TTL:PT1H
BEGIN:VTIMEZONE
TZID:Europe/Dublin
BEGIN:DAYLIGHT
TZOFFSETFROM:+0000
TZOFFSETTO:+0100
TZNAME:IST
DTSTART:20210328T010000
END:DAYLIGHT
BEGIN:STANDARD
TZOFFSETFROM:+0100
TZOFFSETTO:+0000
TZNAME:GMT
DTSTART:20211031T010000
END:STANDARD
BEGIN:DAYLIGHT
TZOFFSETFROM:+0000
TZOFFSETTO:+0100
TZNAME:IST
DTSTART:20220327T010000
END:DAYLIGHT
BEGIN:STANDARD
TZOFFSETFROM:+0100
TZOFFSETTO:+0000
TZNAME:GMT
DTSTART:20221030T010000
END:STANDARD
BEGIN:DAYLIGHT
TZOFFSETFROM:+0000
TZOFFSETTO:+0100
TZNAME:IST
DTSTART:20230326T010000
END:DAYLIGHT
BEGIN:STANDARD
TZOFFSETFROM:+0100
TZOFFSETTO:+0000
TZNAME:GMT
DTSTART:20231029T010000
END:STANDARD
END:VTIMEZONE
BEGIN:VEVENT
DTSTART;TZID=Europe/Dublin:20220125T193000
DTEND;TZID=Europe/Dublin:20220125T210000
DTSTAMP:20260423T141335
CREATED:20211207T122136Z
LAST-MODIFIED:20211208T101209Z
UID:5460-1643139000-1643144400@foxrockgardenclub.com
SUMMARY:Jack Willgoss\, Wildegoose Nursery\, Shropshire - 'Higher & Higher - using tall perennials to create an immersive atmosphere'
DESCRIPTION:Jack Willgoss of Wildegoose Nursery\, Shropshire.\n‘Higher and Higher – Using tall perennials to create an immersive atmosphere in the garden.’ \nJack Willgoss started his horticultural training at 16 years old at Reaseheath College\, whilst working at the Dorothy Clive Garden. He then went onto study a two year Diploma Course at the flagship RHS Garden Wisley\, graduating with Distinction in 2008. \nJack spent a couple of years working as the gardener for a large private house\, but he and his wife\, who had met as Wisley trainees\, had a long held dream to have a nursery and create a beautiful garden to showcase their favourite plants and if this could be in an old Walled Garden even better. So in late 2011 Jack and Laura moved to South Shropshire and set up Wildegoose Nursery – initially specialising in perennial Violas\, which they showcased at RHS Malvern and Chelsea Flower Shows winning Gold and Silver Gilt Medals respectively. However\,  they then had the opportunity to take on a derelict Walled Garden in 2013 and start to create a garden of their own. Beyond Violas this garden gathered together their favourite herbaceous perennials and grasses that they had been avidly collecting at home and abroad and a garden in a Naturalistic\, romantic style started to take shape. The Walled Garden is now open to the public with its series of garden rooms and ornamental vegetable garden and the nursery has expanded to offer a wide range of unusual perennials and grasses\, and violas\, all propagated from seed\, cuttings and division from the stock plants in the garden. The garden and nursery have been featured in many notable magazines including\, RHS The Garden\, Garden’s Illustrated\, Country Life\, Country Living and The Guardian. \n 
URL:https://foxrockgardenclub.com/event/jack-willgoss-wildegoose-nursery-shropshire-creating-beautiful-borders/
CATEGORIES:Zoom Talks
ATTACH;FMTTYPE=image/jpeg:https://foxrockgardenclub.com/cms/wp-content/uploads/Jack-Willgoss-photo-002.jpeg
END:VEVENT
BEGIN:VEVENT
DTSTART;TZID=Europe/Dublin:20220301T193000
DTEND;TZID=Europe/Dublin:20220301T210000
DTSTAMP:20260423T141335
CREATED:20211208T195446Z
LAST-MODIFIED:20220124T163750Z
UID:5487-1646163000-1646168400@foxrockgardenclub.com
SUMMARY:Klaus Laitenberger - 'Grow your own healthy Vegetables'
DESCRIPTION:Klaus Laitenberger is the autor of three vegetable gardening books. He was the Head Gardener at the Organic Centre in Co. Leitrim and restored the gardens of Lissadell House in Co. Sligo. He is a regular contributor to the Irish Garden magazine.\nKlaus also works as a gardening consultant and gives lectures and talks nationwide on growing food. His books have attained excellent reviews from other horticulturists and top gardening newspaper & magazine writers and other gardeners alike.
URL:https://foxrockgardenclub.com/event/klaus-laitenberger-grow-your-own-healthy-vegetables/
CATEGORIES:Zoom Talks
ATTACH;FMTTYPE=image/jpeg:https://foxrockgardenclub.com/cms/wp-content/uploads/klaus-laitenberger.jpg
END:VEVENT
BEGIN:VEVENT
DTSTART;TZID=Europe/Dublin:20220322T193000
DTEND;TZID=Europe/Dublin:20220322T210000
DTSTAMP:20260423T141335
CREATED:20220309T160259Z
LAST-MODIFIED:20220309T160508Z
UID:5603-1647977400-1647982800@foxrockgardenclub.com
SUMMARY:Dr. John Grimshaw\, Gardener\, Botanist and Author -  'Paying Rent - Plants That Earn Their Keep'
DESCRIPTION:Dr John Grimshaw has been interested in plants all his life\, as both a gardener and a botanist\, and holds a First Class Degree in Botany and a Doctorate in African Forest Ecology from Oxford University. He has travelled widely to see plants growing in habitat and his first book was ‘The Gardener’s Atlas’ (1998)\, recounting the journeys plants have made from their source to our gardens. \nJohn worked in The Netherlands for the seed company K. Sahin\, Zaden. B.V.\, where he developed perennials and other plants for the seed trade which gave him invaluable experience of commercial horticulture and management. Following that he was Gardens Manager at Colesbourne Park\, Gloucestershire\, from 2003-2012\, where he maintained and developed the historic Elwes family garden\, especially the snowdrop collection and was a co-author of the definitive snowdrop book ‘Snowdrops: A Monograph of Cultivated Galanthus’ (2002) with M Bishop & A Davis. Between 2004-2009 he was principal author of a major book on trees introduced in the past 35 years\, entitled ‘New Trees\, Recent Introductions to Cultivation’\, with co-author Ross Bayton. \nIn 2012 he became Director of The Yorkshire Arboretum\, North Yorkshire\, with responsibility for the 120 acre arboretum and 20 acre Ray Wood\, on the Castle Howard estate. He is a member of the Royal Horticultural Society’s Advisory Group on Nomenclature and Taxonomy\, and is Vice-chair of the Woody Plant Committee. In 2012 he led the RHS review of the Award of Garden Merit.
URL:https://foxrockgardenclub.com/event/dr-john-grimshaw-gardener-botanist-and-author-paying-rent-plants-that-earn-their-keep/
CATEGORIES:Zoom Talks
ATTACH;FMTTYPE=image/jpeg:https://foxrockgardenclub.com/cms/wp-content/uploads/dr-john-grimshaw.jpg
END:VEVENT
BEGIN:VEVENT
DTSTART;TZID=Europe/Dublin:20220607T193000
DTEND;TZID=Europe/Dublin:20220607T203000
DTSTAMP:20260423T141335
CREATED:20220419T170247Z
LAST-MODIFIED:20220419T170247Z
UID:5648-1654630200-1654633800@foxrockgardenclub.com
SUMMARY:A.G.M. 7th June 2022 - 7.30 to 8.30pm by Zoom
DESCRIPTION:TUESDAY\, 7th June 2022\, 7.30pm to 8.30pm \nA.G.M.
URL:https://foxrockgardenclub.com/event/a-g-m-7th-june-2022-7-30-to-8-30pm-by-zoom/
CATEGORIES:Club Events,Zoom Talks
END:VEVENT
END:VCALENDAR