BEGIN:VCALENDAR
VERSION:2.0
PRODID:-//Foxrock Garden Club - ECPv6.15.20//NONSGML v1.0//EN
CALSCALE:GREGORIAN
METHOD:PUBLISH
X-ORIGINAL-URL:https://foxrockgardenclub.com
X-WR-CALDESC:Events for Foxrock Garden Club
REFRESH-INTERVAL;VALUE=DURATION:PT1H
X-Robots-Tag:noindex
X-PUBLISHED-TTL:PT1H
BEGIN:VTIMEZONE
TZID:Europe/Dublin
BEGIN:DAYLIGHT
TZOFFSETFROM:+0000
TZOFFSETTO:+0100
TZNAME:IST
DTSTART:20250330T010000
END:DAYLIGHT
BEGIN:STANDARD
TZOFFSETFROM:+0100
TZOFFSETTO:+0000
TZNAME:GMT
DTSTART:20251026T010000
END:STANDARD
BEGIN:DAYLIGHT
TZOFFSETFROM:+0000
TZOFFSETTO:+0100
TZNAME:IST
DTSTART:20260329T010000
END:DAYLIGHT
BEGIN:STANDARD
TZOFFSETFROM:+0100
TZOFFSETTO:+0000
TZNAME:GMT
DTSTART:20261025T010000
END:STANDARD
BEGIN:DAYLIGHT
TZOFFSETFROM:+0000
TZOFFSETTO:+0100
TZNAME:IST
DTSTART:20270328T010000
END:DAYLIGHT
BEGIN:STANDARD
TZOFFSETFROM:+0100
TZOFFSETTO:+0000
TZNAME:GMT
DTSTART:20271031T010000
END:STANDARD
END:VTIMEZONE
BEGIN:VEVENT
DTSTART;TZID=Europe/Dublin:20260428T200000
DTEND;TZID=Europe/Dublin:20260428T220000
DTSTAMP:20260422T094713
CREATED:20260109T152849Z
LAST-MODIFIED:20260421T150404Z
UID:8189-1777406400-1777413600@foxrockgardenclub.com
SUMMARY:Jimi Blake: The Combination of Plants Through a Year in Huntingbrook
DESCRIPTION:Nestled in the foothills of the Wicklow Mountains\, Hunting Brook Gardens spans five acres of contemporary exotic plantings and fifteen acres of enchanting woodland and valley. \nSince opening in 2002\, it has become a haven for plant enthusiasts worldwide\, showcasing one of Ireland’s largest private plant collections. Jimi’s planting varies vertical structure\, color and repeated planting to create magical rhythm in his gardens. \nIn his talk\, Jimi will share the evolution of Hunting Brook’s dynamic\, year-round designs\, blending exotic\, shade-loving\, and prairie-style plants.
URL:https://foxrockgardenclub.com/event/jimi-blake-the-woodland-garden/
LOCATION:Foxrock Church Pastoral Centre\, Foxrock Church Pastoral Centre\, Dublin\, Co Dublin\, 18\, Ireland
ATTACH;FMTTYPE=image/png:https://foxrockgardenclub.com/cms/wp-content/uploads/Jimi-BLake.png
END:VEVENT
BEGIN:VEVENT
DTSTART;TZID=Europe/Dublin:20260526T200000
DTEND;TZID=Europe/Dublin:20260526T220000
DTSTAMP:20260422T094713
CREATED:20260109T154610Z
LAST-MODIFIED:20260421T145710Z
UID:8192-1779825600-1779832800@foxrockgardenclub.com
SUMMARY:Millie Souter: Growing and Gardening in Sand
DESCRIPTION:As Head Gardener of the Plant Library at Tom Stuart-Smith’s Serge Hill Project in Hertfordshire\, Millie Souter oversees a living collection of over 1\,500 herbaceous perennials and bulbs. In this talk\, Millie will share her experiences cultivating plants in sandy soils\, focusing on the challenges and successes encountered at Serge Hill. She will provide practical insights into plant selection\, soil management\, and sustainable practices and techniques tailored to sandy environments\, offering valuable guidance for creating resilient\, drought-tolerant gardens.
URL:https://foxrockgardenclub.com/event/millie-souter-growing-and-gardening-in-sand/
LOCATION:Foxrock Church Pastoral Centre\, Foxrock Church Pastoral Centre\, Dublin\, Co Dublin\, 18\, Ireland
ATTACH;FMTTYPE=image/avif:https://foxrockgardenclub.com/cms/wp-content/uploads/Serge-Hill.avif
END:VEVENT
END:VCALENDAR