BEGIN:VCALENDAR
VERSION:2.0
PRODID:-//Foxrock Garden Club - ECPv6.15.20//NONSGML v1.0//EN
CALSCALE:GREGORIAN
METHOD:PUBLISH
X-WR-CALNAME:Foxrock Garden Club
X-ORIGINAL-URL:https://foxrockgardenclub.com
X-WR-CALDESC:Events for Foxrock Garden Club
REFRESH-INTERVAL;VALUE=DURATION:PT1H
X-Robots-Tag:noindex
X-PUBLISHED-TTL:PT1H
BEGIN:VTIMEZONE
TZID:Europe/Dublin
BEGIN:DAYLIGHT
TZOFFSETFROM:+0000
TZOFFSETTO:+0100
TZNAME:IST
DTSTART:20230326T010000
END:DAYLIGHT
BEGIN:STANDARD
TZOFFSETFROM:+0100
TZOFFSETTO:+0000
TZNAME:GMT
DTSTART:20231029T010000
END:STANDARD
BEGIN:DAYLIGHT
TZOFFSETFROM:+0000
TZOFFSETTO:+0100
TZNAME:IST
DTSTART:20240331T010000
END:DAYLIGHT
BEGIN:STANDARD
TZOFFSETFROM:+0100
TZOFFSETTO:+0000
TZNAME:GMT
DTSTART:20241027T010000
END:STANDARD
BEGIN:DAYLIGHT
TZOFFSETFROM:+0000
TZOFFSETTO:+0100
TZNAME:IST
DTSTART:20250330T010000
END:DAYLIGHT
BEGIN:STANDARD
TZOFFSETFROM:+0100
TZOFFSETTO:+0000
TZNAME:GMT
DTSTART:20251026T010000
END:STANDARD
END:VTIMEZONE
BEGIN:VEVENT
DTSTART;TZID=Europe/Dublin:20241126T200000
DTEND;TZID=Europe/Dublin:20241126T220000
DTSTAMP:20260425T020714
CREATED:20240826T160546Z
LAST-MODIFIED:20241004T093717Z
UID:7342-1732651200-1732658400@foxrockgardenclub.com
SUMMARY:Derry Watkins\, Special Plants Nursery
DESCRIPTION:Derry is author of two books on greenhouse gardening and has introduced many plants from her plant collecting trips to South Africa and elsewhere. The result is a collection of unusual plants from all over the world\,  including an amazing range of hardy herbaceous and rockery plants as well as many tender perennials for terrace and conservatory. \nSpecial Plants is a garden\, nursery and online seed shop run by Derry Watkins near Bath in Southwest England. The site was purchased in 1996 as a derelict barn surrounded by muddy fields\, and has since been converted into a thriving garden\, home and business. \n 
URL:https://foxrockgardenclub.com/event/derry-watkins-special-plants-nursery/
LOCATION:Foxrock Church Pastoral Centre\, Foxrock Church Pastoral Centre\, Dublin\, Co Dublin\, 18\, Ireland
ATTACH;FMTTYPE=image/png:https://foxrockgardenclub.com/cms/wp-content/uploads/image-733x1100-1.png
END:VEVENT
END:VCALENDAR